BEGIN:VCALENDAR
VERSION:2.0
PRODID:-//St. Peter&#039;s Episcopal Church - ECPv6.15.20//NONSGML v1.0//EN
CALSCALE:GREGORIAN
METHOD:PUBLISH
X-ORIGINAL-URL:https://stpeterschurch.net
X-WR-CALDESC:Events for St. Peter&#039;s Episcopal Church
REFRESH-INTERVAL;VALUE=DURATION:PT1H
X-Robots-Tag:noindex
X-PUBLISHED-TTL:PT1H
BEGIN:VTIMEZONE
TZID:America/New_York
BEGIN:DAYLIGHT
TZOFFSETFROM:-0500
TZOFFSETTO:-0400
TZNAME:EDT
DTSTART:20240310T070000
END:DAYLIGHT
BEGIN:STANDARD
TZOFFSETFROM:-0400
TZOFFSETTO:-0500
TZNAME:EST
DTSTART:20241103T060000
END:STANDARD
BEGIN:DAYLIGHT
TZOFFSETFROM:-0500
TZOFFSETTO:-0400
TZNAME:EDT
DTSTART:20250309T070000
END:DAYLIGHT
BEGIN:STANDARD
TZOFFSETFROM:-0400
TZOFFSETTO:-0500
TZNAME:EST
DTSTART:20251102T060000
END:STANDARD
BEGIN:DAYLIGHT
TZOFFSETFROM:-0500
TZOFFSETTO:-0400
TZNAME:EDT
DTSTART:20260308T070000
END:DAYLIGHT
BEGIN:STANDARD
TZOFFSETFROM:-0400
TZOFFSETTO:-0500
TZNAME:EST
DTSTART:20261101T060000
END:STANDARD
END:VTIMEZONE
BEGIN:VEVENT
DTSTART;TZID=America/New_York:20251102T170000
DTEND;TZID=America/New_York:20251102T170000
DTSTAMP:20260421T212201
CREATED:20251026T133756Z
LAST-MODIFIED:20251026T133756Z
UID:11298-1762102800-1762102800@stpeterschurch.net
SUMMARY:All Saints Evensong
DESCRIPTION:Join us on Sunday\, November 2\, at 5 p.m. for a beautiful service of Evensong\, celebrating the Feast of All Saints. Led by St. Peter’s Choir\, directed by Lauma Akmene\, and officiated by Fr. David\, this reflective service will honor loved ones who have passed in the past year. Stay after for a potluck — bring a dish and invite your friends and family!
URL:https://stpeterschurch.net/event/all-saints-evensong-2/
LOCATION:St. Peter’s Episcopal Church\, 115 St. Peter's St.\, Salisbury\, MD\, 21801\, United States
CATEGORIES:Community Events,Music,Worship
ATTACH;FMTTYPE=image/png:https://stpeterschurch.net/wp-content/uploads/2025/10/Blue-and-Orange-Church-Conference-Poster.png
END:VEVENT
END:VCALENDAR