BEGIN:VCALENDAR
VERSION:2.0
PRODID:-//St. Peter&#039;s Episcopal Church - ECPv6.15.20//NONSGML v1.0//EN
CALSCALE:GREGORIAN
METHOD:PUBLISH
X-ORIGINAL-URL:https://stpeterschurch.net
X-WR-CALDESC:Events for St. Peter&#039;s Episcopal Church
REFRESH-INTERVAL;VALUE=DURATION:PT1H
X-Robots-Tag:noindex
X-PUBLISHED-TTL:PT1H
BEGIN:VTIMEZONE
TZID:America/New_York
BEGIN:DAYLIGHT
TZOFFSETFROM:-0500
TZOFFSETTO:-0400
TZNAME:EDT
DTSTART:20240310T070000
END:DAYLIGHT
BEGIN:STANDARD
TZOFFSETFROM:-0400
TZOFFSETTO:-0500
TZNAME:EST
DTSTART:20241103T060000
END:STANDARD
BEGIN:DAYLIGHT
TZOFFSETFROM:-0500
TZOFFSETTO:-0400
TZNAME:EDT
DTSTART:20250309T070000
END:DAYLIGHT
BEGIN:STANDARD
TZOFFSETFROM:-0400
TZOFFSETTO:-0500
TZNAME:EST
DTSTART:20251102T060000
END:STANDARD
BEGIN:DAYLIGHT
TZOFFSETFROM:-0500
TZOFFSETTO:-0400
TZNAME:EDT
DTSTART:20260308T070000
END:DAYLIGHT
BEGIN:STANDARD
TZOFFSETFROM:-0400
TZOFFSETTO:-0500
TZNAME:EST
DTSTART:20261101T060000
END:STANDARD
END:VTIMEZONE
BEGIN:VEVENT
DTSTART;TZID=America/New_York:20251121T170000
DTEND;TZID=America/New_York:20251122T123000
DTSTAMP:20260421T212211
CREATED:20251019T132025Z
LAST-MODIFIED:20251019T132025Z
UID:11281-1763744400-1763814600@stpeterschurch.net
SUMMARY:Holiday Bazaar
DESCRIPTION:St. Peter’s Holiday Bazaar is back. It will be held on Friday\, November 21 (5:00-8:00 pm) and Saturday\, November 22 (9:00 am – 12:30 pm). It is held in conjunction with Salisbury’s Third Friday events. We will be having the popular King Boys oysters on Friday\, as well as the following booths selling all kinds of goodies. We need your help to make it a success. \nPete’s Pantry and Bake Shop (baked goods and pantry items of all kinds) \n\nPete’s Attic Treasures (gently used Christmas decorations\, household items\, furniture\, rugs\, lamps\, etc. — no clothing please)\nAuction Alley (themed items or “baskets” for sale or silent auction)\nJewelry Shop (new or gently used jewelry items)\nRaffle\nPete’s Café (King Boys oyster fritters\, soups\, chicken salad and other items to eat)\n\nPlease start collecting items that you can contribute to these booths — items can be dropped off at church the week before the bazaar. Also be thinking about how you can volunteer to set up and/or clean up\, work in a booth\, or donate items. We need your participation to make this fundraiser a success! Come join in the fellowship! \nIf you have any questions\, please contact coordinators Hope Morgan (410-251-6398) or Bravard Cornbrooks (410-430-4053). Thank You!
URL:https://stpeterschurch.net/event/holiday-bazaar-2/
LOCATION:St. Peter’s Episcopal Church\, 115 St. Peter's St.\, Salisbury\, MD\, 21801\, United States
ATTACH;FMTTYPE=image/png:https://stpeterschurch.net/wp-content/uploads/2025/10/St_Peters_Holiday_Bazaar_2025-1.png
END:VEVENT
END:VCALENDAR