BEGIN:VCALENDAR
VERSION:2.0
PRODID:-//St. Peter&#039;s Episcopal Church - ECPv6.15.20//NONSGML v1.0//EN
CALSCALE:GREGORIAN
METHOD:PUBLISH
X-WR-CALNAME:St. Peter&#039;s Episcopal Church
X-ORIGINAL-URL:https://stpeterschurch.net
X-WR-CALDESC:Events for St. Peter&#039;s Episcopal Church
REFRESH-INTERVAL;VALUE=DURATION:PT1H
X-Robots-Tag:noindex
X-PUBLISHED-TTL:PT1H
BEGIN:VTIMEZONE
TZID:America/New_York
BEGIN:DAYLIGHT
TZOFFSETFROM:-0500
TZOFFSETTO:-0400
TZNAME:EDT
DTSTART:20230312T070000
END:DAYLIGHT
BEGIN:STANDARD
TZOFFSETFROM:-0400
TZOFFSETTO:-0500
TZNAME:EST
DTSTART:20231105T060000
END:STANDARD
BEGIN:DAYLIGHT
TZOFFSETFROM:-0500
TZOFFSETTO:-0400
TZNAME:EDT
DTSTART:20240310T070000
END:DAYLIGHT
BEGIN:STANDARD
TZOFFSETFROM:-0400
TZOFFSETTO:-0500
TZNAME:EST
DTSTART:20241103T060000
END:STANDARD
BEGIN:DAYLIGHT
TZOFFSETFROM:-0500
TZOFFSETTO:-0400
TZNAME:EDT
DTSTART:20250309T070000
END:DAYLIGHT
BEGIN:STANDARD
TZOFFSETFROM:-0400
TZOFFSETTO:-0500
TZNAME:EST
DTSTART:20251102T060000
END:STANDARD
END:VTIMEZONE
BEGIN:VEVENT
DTSTART;TZID=America/New_York:20240922T093000
DTEND;TZID=America/New_York:20240922T223000
DTSTAMP:20260419T191408
CREATED:20240926T033726Z
LAST-MODIFIED:20241005T180841Z
UID:9936-1726997400-1727044200@stpeterschurch.net
SUMMARY:Torch Bearer and Crucifer Training
DESCRIPTION:Immediately after the 8:30 a.m. service this Sunday there will be a training for all new torch bearers and crucifers. Meet Deacon Lynn in the church. All children in elementary school are eligible and encouraged to be torch bearers. All youth in middle school are eligible and encouraged to be crucifers. Adults who are interested in being a crucifer at the 10:30 a.m. service are also welcome to take part in the training. All who have been trained can then be scheduled to serve at the altar. Training for new acolytes will take place the following Sunday\, on September 22.
URL:https://stpeterschurch.net/event/torch-bearer-and-crucifer-training/
LOCATION:St. Peter’s Episcopal Church\, 115 St. Peter's St.\, Salisbury\, MD\, 21801\, United States
CATEGORIES:Childrens Ministries,Education
ATTACH;FMTTYPE=image/png:https://stpeterschurch.net/wp-content/uploads/2024/09/torchbearer_crucifer_training-1.png
END:VEVENT
END:VCALENDAR