BEGIN:VCALENDAR
VERSION:2.0
PRODID:-//St. Peter&#039;s Episcopal Church - ECPv6.15.20//NONSGML v1.0//EN
CALSCALE:GREGORIAN
METHOD:PUBLISH
X-WR-CALNAME:St. Peter&#039;s Episcopal Church
X-ORIGINAL-URL:https://stpeterschurch.net
X-WR-CALDESC:Events for St. Peter&#039;s Episcopal Church
REFRESH-INTERVAL;VALUE=DURATION:PT1H
X-Robots-Tag:noindex
X-PUBLISHED-TTL:PT1H
BEGIN:VTIMEZONE
TZID:America/New_York
BEGIN:DAYLIGHT
TZOFFSETFROM:-0500
TZOFFSETTO:-0400
TZNAME:EDT
DTSTART:20230312T070000
END:DAYLIGHT
BEGIN:STANDARD
TZOFFSETFROM:-0400
TZOFFSETTO:-0500
TZNAME:EST
DTSTART:20231105T060000
END:STANDARD
BEGIN:DAYLIGHT
TZOFFSETFROM:-0500
TZOFFSETTO:-0400
TZNAME:EDT
DTSTART:20240310T070000
END:DAYLIGHT
BEGIN:STANDARD
TZOFFSETFROM:-0400
TZOFFSETTO:-0500
TZNAME:EST
DTSTART:20241103T060000
END:STANDARD
BEGIN:DAYLIGHT
TZOFFSETFROM:-0500
TZOFFSETTO:-0400
TZNAME:EDT
DTSTART:20250309T070000
END:DAYLIGHT
BEGIN:STANDARD
TZOFFSETFROM:-0400
TZOFFSETTO:-0500
TZNAME:EST
DTSTART:20251102T060000
END:STANDARD
END:VTIMEZONE
BEGIN:VEVENT
DTSTART;TZID=America/New_York:20241103T170000
DTEND;TZID=America/New_York:20241103T180000
DTSTAMP:20260424T163353
CREATED:20241023T212920Z
LAST-MODIFIED:20241023T212920Z
UID:10268-1730653200-1730656800@stpeterschurch.net
SUMMARY:All Saints Evensong
DESCRIPTION:St. Peter’s Choir will lead a service of Evensong on All Saints Sunday\, November 3 at 5 p.m. in the church and all are invited to attend. This beautiful liturgical service is unique to our Anglican Heritage. Note that incense will be used at this service. Invite your friends and family to join you. \nThere will be a potluck dinner and fellowship following the service in the Parish Hall and all are encouraged to participate. Everyone is asked to bring a covered dish\, salad\, side or dessert. To help with planning\, please sign up on the sign-up sheet at coffee hour for what you will bring\, or contact the Parish Office.
URL:https://stpeterschurch.net/event/all-saints-evensong/
LOCATION:St. Peter’s Episcopal Church\, 115 St. Peter's St.\, Salisbury\, MD\, 21801\, United States
CATEGORIES:Community Events,Worship
ATTACH;FMTTYPE=image/png:https://stpeterschurch.net/wp-content/uploads/2024/10/window1.png
END:VEVENT
BEGIN:VEVENT
DTSTART;TZID=America/New_York:20241105T173000
DTEND;TZID=America/New_York:20241105T183000
DTSTAMP:20260424T163353
CREATED:20241031T144717Z
LAST-MODIFIED:20241031T144717Z
UID:10289-1730827800-1730831400@stpeterschurch.net
SUMMARY:Election Day Evening Prayer
DESCRIPTION:The Diocese’s Southern Convocation clergy are gathering for their monthly worship and meeting next Tuesday\, November 5\, which is also Election Day. They will meet at St. Alban’s in Salisbury for a special Evening Prayer which will focus on prayers and readings for our nation and the election. The clergy are inviting all clergy and lay people from the Southern Convocation to join them and participate in Evening Prayer. Father David Michaud\, our Rector and the Dean of the Southern Convocation\, will be there and encourages members of St. Peter’s to come to St. Alban’s for this special Evening Prayer at 5:30 p.m. on November 5. Note that St. Alban’s will be open all day for a vigil on Election Day. \nPrayer for Elections\nAlmighty God\, to whom we must account for all our powers and privileges: Guide the people of the United States in the election of officials and representatives; that\, by faithful administration and wise laws\, the rights of all may be protected and our nation be enabled to fulfill your purposes; through Jesus Christ our Lord. Amen. (p. 822 BCP)
URL:https://stpeterschurch.net/event/election-day-evening-prayer/
LOCATION:St. Alban’s Episcopal Church\, 302 St. Alban's Dr.\, Salisbury\, MD\, 21804\, United States
CATEGORIES:Community Events,Worship
ATTACH;FMTTYPE=image/png:https://stpeterschurch.net/wp-content/uploads/2024/10/Untitled-design.png
END:VEVENT
BEGIN:VEVENT
DTSTART;TZID=America/New_York:20241119T190000
DTEND;TZID=America/New_York:20241119T210000
DTSTAMP:20260424T163353
CREATED:20241017T140127Z
LAST-MODIFIED:20241017T140127Z
UID:10219-1732042800-1732050000@stpeterschurch.net
SUMMARY:Inquirer's Class Begins
DESCRIPTION:The parish’s annual Inquirer’s Class will be held Tuesday evenings beginning on November 19 for all adults who are interested in being received into the Episcopal Church\, or to be confirmed\, or who just want to know more about the Episcopal Church. Led by the Rector\, Father David Michaud\, this series of classes covers all aspects of the Episcopal Church. Because materials need to be ordered\, please contact Father David if you want to be in the class or if you have questions. There is no cost to participate. For more information\, go to the Inquirer’s Class page on the parish website: https://stpeterschurch.net/inquirers-class/. Contact Fr. David at 410-742-5118 or by email at davidmichaud07@gmail.com.
URL:https://stpeterschurch.net/event/inquirers-class-begins/
LOCATION:St. Peter’s Episcopal Church\, 115 St. Peter's St.\, Salisbury\, MD\, 21801\, United States
CATEGORIES:Community Events,Education,Worship
ATTACH;FMTTYPE=image/png:https://stpeterschurch.net/wp-content/uploads/2024/10/inquirersClass.png
END:VEVENT
BEGIN:VEVENT
DTSTART;TZID=America/New_York:20241128T100000
DTEND;TZID=America/New_York:20241128T110000
DTSTAMP:20260424T163353
CREATED:20241114T164928Z
LAST-MODIFIED:20241114T164928Z
UID:10348-1732788000-1732791600@stpeterschurch.net
SUMMARY:Celebrate Thanksgiving at St. Peter's
DESCRIPTION:St. Peter’s will hold its annual Thanksgiving Day Holy Eucharist on Thursday\, November 28 at 10 a.m. in the church. Begin your Thanksgiving with prayers\, lessons\, sacrament and music offering to God our praise and thanksgiving. Mark your calendar!
URL:https://stpeterschurch.net/event/celebrate-thanksgiving-at-st-peters/
LOCATION:St. Peter’s Episcopal Church\, 115 St. Peter's St.\, Salisbury\, MD\, 21801\, United States
CATEGORIES:Worship
ATTACH;FMTTYPE=image/png:https://stpeterschurch.net/wp-content/uploads/2024/10/roseWindow.png
END:VEVENT
END:VCALENDAR