BEGIN:VCALENDAR
VERSION:2.0
PRODID:-//St. Peter&#039;s Episcopal Church - ECPv6.15.20//NONSGML v1.0//EN
CALSCALE:GREGORIAN
METHOD:PUBLISH
X-ORIGINAL-URL:https://stpeterschurch.net
X-WR-CALDESC:Events for St. Peter&#039;s Episcopal Church
REFRESH-INTERVAL;VALUE=DURATION:PT1H
X-Robots-Tag:noindex
X-PUBLISHED-TTL:PT1H
BEGIN:VTIMEZONE
TZID:America/New_York
BEGIN:DAYLIGHT
TZOFFSETFROM:-0500
TZOFFSETTO:-0400
TZNAME:EDT
DTSTART:20240310T070000
END:DAYLIGHT
BEGIN:STANDARD
TZOFFSETFROM:-0400
TZOFFSETTO:-0500
TZNAME:EST
DTSTART:20241103T060000
END:STANDARD
BEGIN:DAYLIGHT
TZOFFSETFROM:-0500
TZOFFSETTO:-0400
TZNAME:EDT
DTSTART:20250309T070000
END:DAYLIGHT
BEGIN:STANDARD
TZOFFSETFROM:-0400
TZOFFSETTO:-0500
TZNAME:EST
DTSTART:20251102T060000
END:STANDARD
BEGIN:DAYLIGHT
TZOFFSETFROM:-0500
TZOFFSETTO:-0400
TZNAME:EDT
DTSTART:20260308T070000
END:DAYLIGHT
BEGIN:STANDARD
TZOFFSETFROM:-0400
TZOFFSETTO:-0500
TZNAME:EST
DTSTART:20261101T060000
END:STANDARD
END:VTIMEZONE
BEGIN:VEVENT
DTSTART;TZID=America/New_York:20250404T190000
DTEND;TZID=America/New_York:20250404T200000
DTSTAMP:20260424T065431
CREATED:20250320T203055Z
LAST-MODIFIED:20250320T203329Z
UID:10783-1743793200-1743796800@stpeterschurch.net
SUMMARY:Walk the Way of the Cross
DESCRIPTION:Walk the Way of the Cross — a 30-minute service in which participants walk around the church interior and make stops at the 14 stations of Jesus’ passion and death — takes place on Friday\, March 14\, and Friday\, April 4\, at 7 p.m. Join us for this moving Lenten service. \nNote the new date for the second service (it was originally scheduled for March 28 but has been moved to the following week).
URL:https://stpeterschurch.net/event/walk-the-way-of-the-cross/
LOCATION:St. Peter’s Episcopal Church\, 115 St. Peter's St.\, Salisbury\, MD\, 21801\, United States
CATEGORIES:Worship
ATTACH;FMTTYPE=image/png:https://stpeterschurch.net/wp-content/uploads/2025/03/Screenshot-2025-03-20-at-4.27.32 PM.png
END:VEVENT
END:VCALENDAR