BEGIN:VCALENDAR
VERSION:2.0
PRODID:-//St. Peter&#039;s Episcopal Church - ECPv6.15.20//NONSGML v1.0//EN
CALSCALE:GREGORIAN
METHOD:PUBLISH
X-WR-CALNAME:St. Peter&#039;s Episcopal Church
X-ORIGINAL-URL:https://stpeterschurch.net
X-WR-CALDESC:Events for St. Peter&#039;s Episcopal Church
REFRESH-INTERVAL;VALUE=DURATION:PT1H
X-Robots-Tag:noindex
X-PUBLISHED-TTL:PT1H
BEGIN:VTIMEZONE
TZID:America/New_York
BEGIN:DAYLIGHT
TZOFFSETFROM:-0500
TZOFFSETTO:-0400
TZNAME:EDT
DTSTART:20230312T070000
END:DAYLIGHT
BEGIN:STANDARD
TZOFFSETFROM:-0400
TZOFFSETTO:-0500
TZNAME:EST
DTSTART:20231105T060000
END:STANDARD
BEGIN:DAYLIGHT
TZOFFSETFROM:-0500
TZOFFSETTO:-0400
TZNAME:EDT
DTSTART:20240310T070000
END:DAYLIGHT
BEGIN:STANDARD
TZOFFSETFROM:-0400
TZOFFSETTO:-0500
TZNAME:EST
DTSTART:20241103T060000
END:STANDARD
BEGIN:DAYLIGHT
TZOFFSETFROM:-0500
TZOFFSETTO:-0400
TZNAME:EDT
DTSTART:20250309T070000
END:DAYLIGHT
BEGIN:STANDARD
TZOFFSETFROM:-0400
TZOFFSETTO:-0500
TZNAME:EST
DTSTART:20251102T060000
END:STANDARD
END:VTIMEZONE
BEGIN:VEVENT
DTSTART;TZID=America/New_York:20241208T190000
DTEND;TZID=America/New_York:20241208T210000
DTSTAMP:20260424T145945
CREATED:20241203T143837Z
LAST-MODIFIED:20241204T143747Z
UID:10503-1733684400-1733691600@stpeterschurch.net
SUMMARY:Advent Lessons and Carols
DESCRIPTION:St. Peter’s Episcopal Church will host a candlelight service of Advent Lessons and Carols on Sunday evening\, December 8 at 7 p.m. Originating in Anglican churches in the 19th century\, the service of Advent Lessons and Carols features nine scripture lessons\, each followed by an Advent carol or choral piece. All are invited to participate in this beautiful and meaningful choral event featuring St. Peter’s Choir and organist and director James Wallace. An offering will be collected to support St. Peter’s ministries to the homeless population. The public is warmly invited. This event will also be livestreamed.
URL:https://stpeterschurch.net/event/advent-lessons-and-carols/
LOCATION:St. Peter’s Episcopal Church\, 115 St. Peter's St.\, Salisbury\, MD\, 21801\, United States
CATEGORIES:Community Events,Music,Worship
ATTACH;FMTTYPE=image/png:https://stpeterschurch.net/wp-content/uploads/2024/12/Advent-Lessons-Carols-1.png
END:VEVENT
END:VCALENDAR