BEGIN:VCALENDAR
VERSION:2.0
PRODID:-//St. Peter&#039;s Episcopal Church - ECPv6.15.20//NONSGML v1.0//EN
CALSCALE:GREGORIAN
METHOD:PUBLISH
X-WR-CALNAME:St. Peter&#039;s Episcopal Church
X-ORIGINAL-URL:https://stpeterschurch.net
X-WR-CALDESC:Events for St. Peter&#039;s Episcopal Church
REFRESH-INTERVAL;VALUE=DURATION:PT1H
X-Robots-Tag:noindex
X-PUBLISHED-TTL:PT1H
BEGIN:VTIMEZONE
TZID:America/New_York
BEGIN:DAYLIGHT
TZOFFSETFROM:-0500
TZOFFSETTO:-0400
TZNAME:EDT
DTSTART:20230312T070000
END:DAYLIGHT
BEGIN:STANDARD
TZOFFSETFROM:-0400
TZOFFSETTO:-0500
TZNAME:EST
DTSTART:20231105T060000
END:STANDARD
BEGIN:DAYLIGHT
TZOFFSETFROM:-0500
TZOFFSETTO:-0400
TZNAME:EDT
DTSTART:20240310T070000
END:DAYLIGHT
BEGIN:STANDARD
TZOFFSETFROM:-0400
TZOFFSETTO:-0500
TZNAME:EST
DTSTART:20241103T060000
END:STANDARD
BEGIN:DAYLIGHT
TZOFFSETFROM:-0500
TZOFFSETTO:-0400
TZNAME:EDT
DTSTART:20250309T070000
END:DAYLIGHT
BEGIN:STANDARD
TZOFFSETFROM:-0400
TZOFFSETTO:-0500
TZNAME:EST
DTSTART:20251102T060000
END:STANDARD
END:VTIMEZONE
BEGIN:VEVENT
DTSTART;TZID=America/New_York:20241221T150000
DTEND;TZID=America/New_York:20241221T180000
DTSTAMP:20260424T150030
CREATED:20241216T154019Z
LAST-MODIFIED:20241216T154019Z
UID:10540-1734793200-1734804000@stpeterschurch.net
SUMMARY:Blue Christmas
DESCRIPTION:A Blue Christmas Holy Eucharist & Healing Service will be held this year on December 21 at 3:00 p.m. at St. Philip’s Church\, 6457 Quantico Road in Quantico. \nThe Christmas season can be a very difficult time for those who have lost a loved one over this past year or have lost a significant relationship or a job/career or quality of health or simply a way of life. The Blue Christmas Holy Eucharist & Healing Service is a time to remember those we have lost\, a time to reflect upon the changes that have impacted our lives\, and a time to share with one another our hope and assurance of Christ’s presence in our darkest hours. \nPrime Rib Dinner Immediately Following\nThe gentlemen of St. Philip’s will be hosting a light dinner immediately following the service the service in the upper level of the Parish Hall. Need a Ride? St. Philip’s is requesting that you let the Rev. Elizabeth Philips know if you would like to a ride to the service and home again. She can assist in making travel arrangements for your safe arrival and return. \nRSVP Requested\nSt. Philip’s is requesting that you let the church know if you are planning to attend. Please RSVP by December 19th to Rev. Elizabeth Phillips at 336-816-5055 or revenphillips@icloud.com. Please indicate if you will be joining St. Philip’s for dinner and if you would like transportation. Valet Parking Available: You will have the option to drop your car off at the front of the church and allow one of St. Philip’s trusty parishioners to park your car for you and assist you into the building. Someone will be present to manage the traffic on Quantico Road for your safety. \nSt. Philip’s Episcopal Church in Quantico will be joined by St. Peter’s; St. Alban’s; St. Mary’s\, Tyaskin; and All Hallows Church\, Snow Hill to celebrate the gift of hope and Christ’s loving presence with us on this winter solstice\, the longest night of the year.
URL:https://stpeterschurch.net/event/blue-christmas/
LOCATION:St. Philip’s Episcopal Church\, 6457 Quantico Rd.\, Quantico\, MD\, 21856\, United States
CATEGORIES:Community Events,Worship
ATTACH;FMTTYPE=image/png:https://stpeterschurch.net/wp-content/uploads/2024/12/Blue-Christmas.png
END:VEVENT
END:VCALENDAR