BEGIN:VCALENDAR
VERSION:2.0
PRODID:-//St. Peter&#039;s Episcopal Church - ECPv6.15.20//NONSGML v1.0//EN
CALSCALE:GREGORIAN
METHOD:PUBLISH
X-WR-CALNAME:St. Peter&#039;s Episcopal Church
X-ORIGINAL-URL:https://stpeterschurch.net
X-WR-CALDESC:Events for St. Peter&#039;s Episcopal Church
REFRESH-INTERVAL;VALUE=DURATION:PT1H
X-Robots-Tag:noindex
X-PUBLISHED-TTL:PT1H
BEGIN:VTIMEZONE
TZID:America/New_York
BEGIN:DAYLIGHT
TZOFFSETFROM:-0500
TZOFFSETTO:-0400
TZNAME:EDT
DTSTART:20230312T070000
END:DAYLIGHT
BEGIN:STANDARD
TZOFFSETFROM:-0400
TZOFFSETTO:-0500
TZNAME:EST
DTSTART:20231105T060000
END:STANDARD
BEGIN:DAYLIGHT
TZOFFSETFROM:-0500
TZOFFSETTO:-0400
TZNAME:EDT
DTSTART:20240310T070000
END:DAYLIGHT
BEGIN:STANDARD
TZOFFSETFROM:-0400
TZOFFSETTO:-0500
TZNAME:EST
DTSTART:20241103T060000
END:STANDARD
BEGIN:DAYLIGHT
TZOFFSETFROM:-0500
TZOFFSETTO:-0400
TZNAME:EDT
DTSTART:20250309T070000
END:DAYLIGHT
BEGIN:STANDARD
TZOFFSETFROM:-0400
TZOFFSETTO:-0500
TZNAME:EST
DTSTART:20251102T060000
END:STANDARD
END:VTIMEZONE
BEGIN:VEVENT
DTSTART;TZID=America/New_York:20241222T093000
DTEND;TZID=America/New_York:20241222T103000
DTSTAMP:20260424T150102
CREATED:20241216T145932Z
LAST-MODIFIED:20241216T145932Z
UID:10537-1734859800-1734863400@stpeterschurch.net
SUMMARY:Children's Christmas Pageant
DESCRIPTION:Make plans to attend St. Peter’s Annual Children’s Christmas Pageant between the 8:30 a.m. and 10:30 a.m. services on Sunday\, December 22\, downstairs in the Parish Hall. Support our children and youth with your presence as they portray the Christmas Story. \nAll children and youth are welcome to participate in the pageant. For questions or more information\, please contact the Pageant Director Kate Dyer at kate.allen32790@gmail.com.
URL:https://stpeterschurch.net/event/childrens-christmas-pageant/
LOCATION:St. Peter’s Episcopal Church\, 115 St. Peter's St.\, Salisbury\, MD\, 21801\, United States
CATEGORIES:Childrens Ministries,Worship
ATTACH;FMTTYPE=image/png:https://stpeterschurch.net/wp-content/uploads/2024/12/St.-Peters-Annual-Childrens-Christmas-Pageant.png
END:VEVENT
BEGIN:VEVENT
DTSTART;TZID=America/New_York:20241222T180000
DTEND;TZID=America/New_York:20241222T200000
DTSTAMP:20260424T150102
CREATED:20241203T141721Z
LAST-MODIFIED:20241203T142454Z
UID:10496-1734890400-1734897600@stpeterschurch.net
SUMMARY:Handel’s Messiah All-Sing
DESCRIPTION:St. Peter’s annual performance of Handel’s glorious oratorio\, “Messiah\,” will take place on Sunday\, December 22 at 6:00 p.m. Admission is free but donations are welcomed to defray the costs of the concert. Since the audience is the chorus\, all are encouraged to bring scores (Watkins-Shaw edition preferred)\, but they will also be on sale for $10 at the door. \nThe professional orchestra will bring the performance to life\, and four wonderful vocal soloists will carry the familiar arias and duets: Hayley Abramovitz\, Soprano; Hunter Shaner\, Countertenor; John Wesley Wright\, Tenor; and Andrew Boisvert\, Bass. \nThe performance is conducted by St. Peter’s Music Director\, James Wallace. \nThere will be an optional choral rehearsal for those who would like to brush up before the performance on Monday\, Dec. 16\, from 6:30-8:30 p.m. Of course all members of the public are invited to attend the concert\, whether they will sing or listen\, and regardless of whether they can come to the rehearsal. \nThe church is at the corner of W. Church St. and St. Peters St. in Salisbury. The small parking lot at 110 W. Church St. is reserved for handicapped parking\, but there is ample street parking in the neighborhood. \nDon’t miss this glorious musical event — it will make your holiday season!
URL:https://stpeterschurch.net/event/handels-messiah-all-sing/
LOCATION:St. Peter’s Episcopal Church\, 115 St. Peter's St.\, Salisbury\, MD\, 21801\, United States
CATEGORIES:Community Events,Music,Worship
ATTACH;FMTTYPE=image/jpeg:https://stpeterschurch.net/wp-content/uploads/2024/12/Messiah-All-Sing.jpg
END:VEVENT
END:VCALENDAR