BEGIN:VCALENDAR
VERSION:2.0
PRODID:-//St. Peter&#039;s Episcopal Church - ECPv6.15.20//NONSGML v1.0//EN
CALSCALE:GREGORIAN
METHOD:PUBLISH
X-WR-CALNAME:St. Peter&#039;s Episcopal Church
X-ORIGINAL-URL:https://stpeterschurch.net
X-WR-CALDESC:Events for St. Peter&#039;s Episcopal Church
REFRESH-INTERVAL;VALUE=DURATION:PT1H
X-Robots-Tag:noindex
X-PUBLISHED-TTL:PT1H
BEGIN:VTIMEZONE
TZID:America/New_York
BEGIN:DAYLIGHT
TZOFFSETFROM:-0500
TZOFFSETTO:-0400
TZNAME:EDT
DTSTART:20230312T070000
END:DAYLIGHT
BEGIN:STANDARD
TZOFFSETFROM:-0400
TZOFFSETTO:-0500
TZNAME:EST
DTSTART:20231105T060000
END:STANDARD
BEGIN:DAYLIGHT
TZOFFSETFROM:-0500
TZOFFSETTO:-0400
TZNAME:EDT
DTSTART:20240310T070000
END:DAYLIGHT
BEGIN:STANDARD
TZOFFSETFROM:-0400
TZOFFSETTO:-0500
TZNAME:EST
DTSTART:20241103T060000
END:STANDARD
BEGIN:DAYLIGHT
TZOFFSETFROM:-0500
TZOFFSETTO:-0400
TZNAME:EDT
DTSTART:20250309T070000
END:DAYLIGHT
BEGIN:STANDARD
TZOFFSETFROM:-0400
TZOFFSETTO:-0500
TZNAME:EST
DTSTART:20251102T060000
END:STANDARD
END:VTIMEZONE
BEGIN:VEVENT
DTSTART;TZID=America/New_York:20241229T103000
DTEND;TZID=America/New_York:20241229T120000
DTSTAMP:20260424T145805
CREATED:20241203T150439Z
LAST-MODIFIED:20241203T150439Z
UID:10508-1735468200-1735473600@stpeterschurch.net
SUMMARY:Christmas Lessons and Carols
DESCRIPTION:Join us on Sunday\, December 29\, at the 10:30 service for Christmas Lessons and Carols. The service of Nine Lessons and Carols has a nearly 150-year history in the Anglican Church. It includes the reading of nine stories from Scripture — including the promise of the Messiah and the birth of Jesus — and the singing of Christmas carols\, hymns and choir anthems. \nYou can find the nine lessons used for the service here: https://www.lectionarypage.net/YearABC/SpecServ/KingsCollegeLessonsAndCarols.html
URL:https://stpeterschurch.net/event/christmas-lessons-and-carols/
LOCATION:St. Peter’s Episcopal Church\, 115 St. Peter's St.\, Salisbury\, MD\, 21801\, United States
CATEGORIES:Music,Worship
ATTACH;FMTTYPE=image/jpeg:https://stpeterschurch.net/wp-content/uploads/2024/12/Christmas-Lesson-Carols.jpg
END:VEVENT
END:VCALENDAR