BEGIN:VCALENDAR
VERSION:2.0
PRODID:-//St. Peter&#039;s Episcopal Church - ECPv6.15.20//NONSGML v1.0//EN
CALSCALE:GREGORIAN
METHOD:PUBLISH
X-ORIGINAL-URL:https://stpeterschurch.net
X-WR-CALDESC:Events for St. Peter&#039;s Episcopal Church
REFRESH-INTERVAL;VALUE=DURATION:PT1H
X-Robots-Tag:noindex
X-PUBLISHED-TTL:PT1H
BEGIN:VTIMEZONE
TZID:America/New_York
BEGIN:DAYLIGHT
TZOFFSETFROM:-0500
TZOFFSETTO:-0400
TZNAME:EDT
DTSTART:20250309T070000
END:DAYLIGHT
BEGIN:STANDARD
TZOFFSETFROM:-0400
TZOFFSETTO:-0500
TZNAME:EST
DTSTART:20251102T060000
END:STANDARD
BEGIN:DAYLIGHT
TZOFFSETFROM:-0500
TZOFFSETTO:-0400
TZNAME:EDT
DTSTART:20260308T070000
END:DAYLIGHT
BEGIN:STANDARD
TZOFFSETFROM:-0400
TZOFFSETTO:-0500
TZNAME:EST
DTSTART:20261101T060000
END:STANDARD
BEGIN:DAYLIGHT
TZOFFSETFROM:-0500
TZOFFSETTO:-0400
TZNAME:EDT
DTSTART:20270314T070000
END:DAYLIGHT
BEGIN:STANDARD
TZOFFSETFROM:-0400
TZOFFSETTO:-0500
TZNAME:EST
DTSTART:20271107T060000
END:STANDARD
END:VTIMEZONE
BEGIN:VEVENT
DTSTART;TZID=America/New_York:20260315T170000
DTEND;TZID=America/New_York:20260315T183000
DTSTAMP:20260421T142818
CREATED:20260313T185703Z
LAST-MODIFIED:20260313T185703Z
UID:11682-1773594000-1773599400@stpeterschurch.net
SUMMARY:Lenten Choral Evensong
DESCRIPTION:Please join us for Lenten Choral Evensong on Sunday\, March 15 at 5:00 PM at St. Peter’s Episcopal Church in Salisbury. \nThe service will feature Magnificat and Nunc Dimittis in B-flat by Charles Villiers Stanford and Preces and Responses by Philip Radcliffe. The organ program will include Trivium by Arvo Pärt and the monumental Passacaglia and Fugue in C minor\, BWV 582 by Johann Sebastian Bach. \nThe St. Peter’s Choir will be joined by beloved professional singers and students from Salisbury University. The choir is directed by Lauma Akmene\, Music Director of St. Peter’s. Officiated by Fr. David. \nThis beautiful and reflective Lenten service is not to be missed—please come and share the word.
URL:https://stpeterschurch.net/event/lenten-choral-evensong/
LOCATION:St. Peter’s Episcopal Church\, 115 St. Peter's St.\, Salisbury\, MD\, 21801\, United States
CATEGORIES:Community Events,Music,Worship
ATTACH;FMTTYPE=image/png:https://stpeterschurch.net/wp-content/uploads/2026/03/lentenEvensong.png
END:VEVENT
BEGIN:VEVENT
DTSTART;TZID=America/New_York:20260405T083000
DTEND;TZID=America/New_York:20260405T120000
DTSTAMP:20260421T142818
CREATED:20260331T165054Z
LAST-MODIFIED:20260331T165054Z
UID:11743-1775377800-1775390400@stpeterschurch.net
SUMMARY:Pre-Service Music on Easter Sunday
DESCRIPTION:🎶 Join Us for Pre-Service Music on Easter Sunday! 🎶Celebrate Easter with beautiful live music before both services at 8:30 a.m. and 10:30 a.m.! Each pre-service program will be approximately 15 minutes long and feature talented musicians from our community. Bring your friends and loved ones for a joyful start to this special day.\n \nProgram: \n8:30 Service \n\nDeep River – Traditional; arr. Stephen Harvey (Stephen Harvey\, saxophone)\nViolin Sonata in G major\, BWV 1021 – Bach (Dr. Sachi Murasugi\, violin; Dr. Jeffrey Schoyen\, cello)\nSuite in D\, No. 1\, Ouverture – Handel (Sarah Roth\, trumpet)\n\n10:30 Service \n\nAll Hail the Power of Jesus’ Name (CORONATION) – Handbells Choir\nViolin Sonata in G major\, BWV 1021 – Bach (Dr. Sachi Murasugi\, violin; Dr. Jeffrey Schoyen\, cello)\nO Death\, Where is Thy Sting – Handel\, from Messiah (Dr. John Wesley Wright\, tenor; Hunter Shaner\, countertenor)\nSuite in D\, No. 1\, Ouverture – Handel (Sarah Roth\, trumpet)\n\n\n		\n		\n			\n				\n			\n				\n				Hunter Shaner\n				\n			\n				\n			\n				\n				Sachi Murasugi\n				\n			\n				\n			\n				\n				Stephen Harvey\n				\n			\n				\n			\n				\n				John Wesley Wright\n				\n			\n				\n			\n				\n				Sarah Roth\n				\n			\n				\n			\n				\n				Lauma Akmene
URL:https://stpeterschurch.net/event/pre-service-music-on-easter-sunday/
LOCATION:St. Peter’s Episcopal Church\, 115 St. Peter's St.\, Salisbury\, MD\, 21801\, United States
CATEGORIES:Music,Worship
ATTACH;FMTTYPE=image/jpeg:https://stpeterschurch.net/wp-content/uploads/2018/07/CA16.jpg
END:VEVENT
BEGIN:VEVENT
DTSTART;TZID=America/New_York:20260417T170000
DTEND;TZID=America/New_York:20260417T200000
DTSTAMP:20260421T142818
CREATED:20260406T185058Z
LAST-MODIFIED:20260406T185058Z
UID:11773-1776445200-1776456000@stpeterschurch.net
SUMMARY:Third Friday with King Boys Oyster Fritters
DESCRIPTION:Join us for Third Friday on April 17th\, from 5:00 to 8:00 pm\, downstairs in St. Peter’s Parish Hall. We’ll have lots of good food\, including burgers\, hot dogs\, and King Boys oyster fritters! We will also be hosting a bake sale where you can buy cakes\, pies\, cookies\, muffins\, and more!
URL:https://stpeterschurch.net/event/third-friday-with-king-boys-oyster-fritters/
LOCATION:St. Peter’s Episcopal Church\, 115 St. Peter's St.\, Salisbury\, MD\, 21801\, United States
CATEGORIES:Community Events
ATTACH;FMTTYPE=image/png:https://stpeterschurch.net/wp-content/uploads/2026/04/Third-Friday-1.png
END:VEVENT
END:VCALENDAR