BEGIN:VCALENDAR
VERSION:2.0
PRODID:-//St. Peter&#039;s Episcopal Church - ECPv6.15.20//NONSGML v1.0//EN
CALSCALE:GREGORIAN
METHOD:PUBLISH
X-ORIGINAL-URL:https://stpeterschurch.net
X-WR-CALDESC:Events for St. Peter&#039;s Episcopal Church
REFRESH-INTERVAL;VALUE=DURATION:PT1H
X-Robots-Tag:noindex
X-PUBLISHED-TTL:PT1H
BEGIN:VTIMEZONE
TZID:America/New_York
BEGIN:DAYLIGHT
TZOFFSETFROM:-0500
TZOFFSETTO:-0400
TZNAME:EDT
DTSTART:20230312T070000
END:DAYLIGHT
BEGIN:STANDARD
TZOFFSETFROM:-0400
TZOFFSETTO:-0500
TZNAME:EST
DTSTART:20231105T060000
END:STANDARD
BEGIN:DAYLIGHT
TZOFFSETFROM:-0500
TZOFFSETTO:-0400
TZNAME:EDT
DTSTART:20240310T070000
END:DAYLIGHT
BEGIN:STANDARD
TZOFFSETFROM:-0400
TZOFFSETTO:-0500
TZNAME:EST
DTSTART:20241103T060000
END:STANDARD
BEGIN:DAYLIGHT
TZOFFSETFROM:-0500
TZOFFSETTO:-0400
TZNAME:EDT
DTSTART:20250309T070000
END:DAYLIGHT
BEGIN:STANDARD
TZOFFSETFROM:-0400
TZOFFSETTO:-0500
TZNAME:EST
DTSTART:20251102T060000
END:STANDARD
END:VTIMEZONE
BEGIN:VEVENT
DTSTART;TZID=America/New_York:20241013T150000
DTEND;TZID=America/New_York:20241013T170000
DTSTAMP:20260421T151316
CREATED:20241006T015106Z
LAST-MODIFIED:20241006T031014Z
UID:10135-1728831600-1728838800@stpeterschurch.net
SUMMARY:Youth Bowling Night
DESCRIPTION:All middle and high school youth are invited to a fun afternoon with youth from other parishes in the Diocese’s Southern Convocation at the Southern Convocation Bowling and Pizza Party. It will be held on Sunday\, October 13\, 2024 at 3:00 p.m. at Southbound Alley Bowling Lanes in Salisbury. RSVP to St. Peter’s Youth Group Leader Deacon Lynn by Oct 7 at: 443-754-1735 OR lynn@bishopsinstitute.org.
URL:https://stpeterschurch.net/event/10135/
LOCATION:Southbound Alley\, 1524 South Salisbury Blvd\, Salisbury\, MD\, 21801\, United States
CATEGORIES:Youth Group
ATTACH;FMTTYPE=image/jpeg:https://stpeterschurch.net/wp-content/uploads/2024/10/todd-diemer-IoBCIosXkH8-unsplash-scaled-e1728184207455.jpg
END:VEVENT
BEGIN:VEVENT
DTSTART;TZID=America/New_York:20241009T130000
DTEND;TZID=America/New_York:20241009T150000
DTSTAMP:20260421T151316
CREATED:20241006T013947Z
LAST-MODIFIED:20241006T022420Z
UID:10129-1728478800-1728486000@stpeterschurch.net
SUMMARY:First Choir School Rehearsal
DESCRIPTION:The Choir School of the Eastern Shore will meet Wednesdays at 1pm in St. Peter’s Choir Room under the direction of Music Director James Wallace. There has been interest by the Homeschooled community in participating and so the school’s hours will be compatible with their school day\, although it is open to all youth.  This will be a treble choir — the program is open to girls in grades 2 through high school\, and boys in grade 2 through voice change (boys with changed voices are invited to join the men’s section of the adult choir). For more information contact James at jamesw@stpeterschurch.org.
URL:https://stpeterschurch.net/event/first-choir-school-rehearsal/
LOCATION:St. Peter’s Episcopal Church\, 115 St. Peter's St.\, Salisbury\, MD\, 21801\, United States
CATEGORIES:Childrens Ministries,Music
ATTACH;FMTTYPE=image/jpeg:https://stpeterschurch.net/wp-content/uploads/2024/10/Choir-School-First-Rehearsal_-1-e1728178750733.jpg
END:VEVENT
BEGIN:VEVENT
DTSTART;TZID=America/New_York:20241006T160000
DTEND;TZID=America/New_York:20241006T170000
DTSTAMP:20260421T151316
CREATED:20240926T023004Z
LAST-MODIFIED:20241005T180123Z
UID:9911-1728230400-1728234000@stpeterschurch.net
SUMMARY:Blessing of the Animals
DESCRIPTION:It is traditional in Episcopal churches to hold a Blessing of the Animals on the Sunday closest to St. Francis of Assisi’s feast day on October 4 (St. Francis is the patron saint of animals). St. Peter’s will hold its annual blessing on Sunday\, October 6 at 4 p.m. in the courtyard. All animals and their human companions are invited to participate.
URL:https://stpeterschurch.net/event/blessing-of-the-animals/
LOCATION:St. Peter’s Episcopal Church\, 115 St. Peter's St.\, Salisbury\, MD\, 21801\, United States
CATEGORIES:Worship
ATTACH;FMTTYPE=image/png:https://stpeterschurch.net/wp-content/uploads/2024/09/animalBlessing.png
END:VEVENT
BEGIN:VEVENT
DTSTART;VALUE=DATE:20241006
DTEND;VALUE=DATE:20241007
DTSTAMP:20260421T151316
CREATED:20241006T014343Z
LAST-MODIFIED:20241006T014343Z
UID:10132-1728172800-1728259199@stpeterschurch.net
SUMMARY:Stewardship Campaign Begins
DESCRIPTION:This Sunday begins the stewardship campaign with the theme “Walk in Love” (Ephesians 5:2) to encourage parishioners to pledge their support to St. Peter’s for 2025. Stewardship Chair Ernie Cornbrooks will explain what will happen in the campaign during announcements this Sunday. For more information go to the parish website stewardship page by clicking here.
URL:https://stpeterschurch.net/event/stewardship-campaign-begins/
LOCATION:St. Peter’s Episcopal Church\, 115 St. Peter's St.\, Salisbury\, MD\, 21801\, United States
ATTACH;FMTTYPE=image/png:https://stpeterschurch.net/wp-content/uploads/2024/10/Walk-In-Love-color-1-e1728178927940.png
END:VEVENT
BEGIN:VEVENT
DTSTART;TZID=America/New_York:20240929T160000
DTEND;TZID=America/New_York:20240929T170000
DTSTAMP:20260421T151316
CREATED:20240926T020856Z
LAST-MODIFIED:20241005T180351Z
UID:9895-1727625600-1727629200@stpeterschurch.net
SUMMARY:Wicomico Goes Purple Service
DESCRIPTION:St. Peter’s is partnering with Wicomico Goes Purple — a substance misuse awareness campaign that focuses on prevention\, treatment and recovery resources available in our community. The Wicomico Goes Purple initiative encourages people to get the facts\, get involved\, and start talking so that together we can help shatter the stigma of addiction.  This September we have been praying the prayer for the victims of addiction during the Prayers of the People and we are lighting up our bell tower at night in purple light. \nThis Saturday join in the Shatter the Stigma Walk at 9:30 a.m. at Wor-Wic Community College. Click here for more info. This Sunday afternoon\, St. Peter’s will be hosting a Meditation of Hope and Remembrance in the church at 4 p.m. All are invited to attend.
URL:https://stpeterschurch.net/event/wicomico-goes-purple-service/
LOCATION:St. Peter’s Episcopal Church\, 115 St. Peter's St.\, Salisbury\, MD\, 21801\, United States
CATEGORIES:Community Events,Worship
ATTACH;FMTTYPE=image/png:https://stpeterschurch.net/wp-content/uploads/2024/09/purple.png
END:VEVENT
BEGIN:VEVENT
DTSTART;TZID=America/New_York:20240929T103000
DTEND;TZID=America/New_York:20240929T233000
DTSTAMP:20260421T151316
CREATED:20240926T024352Z
LAST-MODIFIED:20241006T021413Z
UID:9923-1727605800-1727652600@stpeterschurch.net
SUMMARY:Morning Prayer and Holy Communion
DESCRIPTION:It’s our tradition on the fifth Sunday of the month at the 10:30 a.m. service — the service in which the choir leads our singing — to begin with Morning Prayer followed by Holy Communion. The Prayer Book allows for substituting Morning Prayer for the Liturgy of the Word followed by Holy Communion. So\, for this Sunday\, September 29\, we will begin the 10:30 a.m. service with sung Morning Prayer.
URL:https://stpeterschurch.net/event/morning-prayer-and-holy-communion/
LOCATION:St. Peter’s Episcopal Church\, 115 St. Peter's St.\, Salisbury\, MD\, 21801\, United States
CATEGORIES:Music,Worship
ATTACH;FMTTYPE=image/png:https://stpeterschurch.net/wp-content/uploads/2024/10/window1.png
END:VEVENT
BEGIN:VEVENT
DTSTART;TZID=America/New_York:20240929T083000
DTEND;TZID=America/New_York:20240929T093000
DTSTAMP:20260421T151316
CREATED:20240926T021137Z
LAST-MODIFIED:20241005T180418Z
UID:9897-1727598600-1727602200@stpeterschurch.net
SUMMARY:Youth Sunday
DESCRIPTION:St. Peter’s customarily celebrates Youth Sunday on the fifth Sunday of the month\, which is this Sunday\, September 29. At the 8:30 service\, our children and youth will be helping out with our worship ministries and Pastor Greg will be giving a children’s sermon. All families are urged to attend this service.
URL:https://stpeterschurch.net/event/youth-sunday/
LOCATION:St. Peter’s Episcopal Church\, 115 St. Peter's St.\, Salisbury\, MD\, 21801\, United States
CATEGORIES:Childrens Ministries,Worship
ATTACH;FMTTYPE=image/png:https://stpeterschurch.net/wp-content/uploads/2024/10/youthSunday.png
END:VEVENT
BEGIN:VEVENT
DTSTART;TZID=America/New_York:20240928T143000
DTEND;TZID=America/New_York:20240928T163000
DTSTAMP:20260421T151316
CREATED:20240926T022118Z
LAST-MODIFIED:20241005T180203Z
UID:9901-1727533800-1727541000@stpeterschurch.net
SUMMARY:Book Reading and Discussion
DESCRIPTION:St. Alban’s in Salisbury is inviting St. Peter’s parishioners to come\, meet\, and participate in a book discussion with author and journalist Whitney Pipkin. She will be at St. Alban’s at 2:30 p.m. this Saturday\, Sept. 28 for a reading and discussion of her book\, We Shall All be Changed: How Facing Death with Loved Ones Transforms Us. \nThis event is free and open to the public. It will be held in St. Alban’s fellowship hall with light refreshments to follow. For more information\, contact Cheryl Hoke at cherhoke@gmail.com; call: 443-365-4043.
URL:https://stpeterschurch.net/event/author-reading-and-discussion/
LOCATION:St. Alban’s Episcopal Church\, 302 St. Alban's Dr.\, Salisbury\, MD\, 21804\, United States
CATEGORIES:Community Events
ATTACH;FMTTYPE=image/png:https://stpeterschurch.net/wp-content/uploads/2024/10/pipkin.png
END:VEVENT
BEGIN:VEVENT
DTSTART;TZID=America/New_York:20240928T093000
DTEND;TZID=America/New_York:20240928T113000
DTSTAMP:20260421T151316
CREATED:20240926T023945Z
LAST-MODIFIED:20241005T180434Z
UID:9919-1727515800-1727523000@stpeterschurch.net
SUMMARY:Shatter the Stigma Walk
DESCRIPTION:Join Wicomico Goes Purple\, Wor-Wic Community College\, Walk Wicomico and the Wicomico County Health Department as they hold their third annual Shatter the Stigma Walk on September 28\, 2024 from 9:30 a.m.-11:30 a.m. at Wor-Wic Community College. This event is family friendly\, and the 1 mile walking path will be ADA and stroller friendly. The first 150 participants to register will get a FREE t-shirt the day of the event. Here is the link to register https://forms.gle/u2PeHsHx6KVgC9Vo7 \nHere is a list of all of the fun you will find at the Shatter the Stigma Walk:\n– Face Painting\n– Music & Dancing\n– Cascading Carlos\n– Vendor Resources\n– Fun Mascots\n– Narcan Trainings\n– Inspirational Speaking\n– Free light snacks and refreshments\n– And more!!!
URL:https://stpeterschurch.net/event/shatter-the-stigma-walk/
LOCATION:Wor-Wic Community College\, 32000 Campus Dr.\, Salisbury\, MD\, 21804\, United States
CATEGORIES:Community Events
ATTACH;FMTTYPE=image/png:https://stpeterschurch.net/wp-content/uploads/2024/10/shatterTheStigmaWalk.png
END:VEVENT
BEGIN:VEVENT
DTSTART;TZID=America/New_York:20240922T093000
DTEND;TZID=America/New_York:20240922T223000
DTSTAMP:20260421T151316
CREATED:20240926T034508Z
LAST-MODIFIED:20241005T181034Z
UID:9939-1726997400-1727044200@stpeterschurch.net
SUMMARY:Sacred Ground Informational Session
DESCRIPTION:Sacred Ground is an Episcopal Church film- and readings-based dialogue series on race\, grounded in faith. A small group is invited to walk through chapters of America’s history of race and racism\, while weaving in threads of family story\, economic class\, and political and regional identity. \nThe series is built around a powerful online curriculum of documentary films and readings that focus on Indigenous\, Black\, Latino\, and Asian/Pacific American histories as they intersect with European American histories. \nOur own Pastor Greg and parishioners Karen Shields and Linda Hurley are the facilitators for this Tuesday evening series which begins October 1 at 7 p.m. in the Library. \nCome to an information session on Sunday\, September 22 at 930am in the library to learn more and to ask questions.  The facilitators plan to show a sampling of what the class will see in the series. For more information\, go to the Sacred Ground page on the parish website: https://stpeterschurch.net/sacred-ground/.
URL:https://stpeterschurch.net/event/sacred-ground-informational-session/
LOCATION:St. Peter’s Episcopal Church\, 115 St. Peter's St.\, Salisbury\, MD\, 21801\, United States
CATEGORIES:Adult Education,Education
ATTACH;FMTTYPE=image/png:https://stpeterschurch.net/wp-content/uploads/2024/09/sacredGround-1.png
END:VEVENT
BEGIN:VEVENT
DTSTART;TZID=America/New_York:20240922T093000
DTEND;TZID=America/New_York:20240922T223000
DTSTAMP:20260421T151316
CREATED:20240926T033726Z
LAST-MODIFIED:20241005T180841Z
UID:9936-1726997400-1727044200@stpeterschurch.net
SUMMARY:Torch Bearer and Crucifer Training
DESCRIPTION:Immediately after the 8:30 a.m. service this Sunday there will be a training for all new torch bearers and crucifers. Meet Deacon Lynn in the church. All children in elementary school are eligible and encouraged to be torch bearers. All youth in middle school are eligible and encouraged to be crucifers. Adults who are interested in being a crucifer at the 10:30 a.m. service are also welcome to take part in the training. All who have been trained can then be scheduled to serve at the altar. Training for new acolytes will take place the following Sunday\, on September 22.
URL:https://stpeterschurch.net/event/torch-bearer-and-crucifer-training/
LOCATION:St. Peter’s Episcopal Church\, 115 St. Peter's St.\, Salisbury\, MD\, 21801\, United States
CATEGORIES:Childrens Ministries,Education
ATTACH;FMTTYPE=image/png:https://stpeterschurch.net/wp-content/uploads/2024/09/torchbearer_crucifer_training-1.png
END:VEVENT
BEGIN:VEVENT
DTSTART;TZID=America/New_York:20240921T183000
DTEND;TZID=America/New_York:20240921T193000
DTSTAMP:20260421T151316
CREATED:20240926T041347Z
LAST-MODIFIED:20241005T180911Z
UID:9950-1726943400-1726947000@stpeterschurch.net
SUMMARY:Harp and Organ Concert
DESCRIPTION:St. Peter’s is on the Maryland Folk Festival program — with an Organ and Harp Concert at 6:30 p.m.\, Saturday\, September 21 at St. Peter’s Church\, featuring our Music Director and Organist James Wallace and Harpist Joy Slaven. The concert is free and open to all. If you are at the Folk Festival\, why not stop in and support your church and your Music Director and enjoy a quality concert in the church.
URL:https://stpeterschurch.net/event/harp-and-organ-concert/
LOCATION:St. Peter’s Episcopal Church\, 115 St. Peter's St.\, Salisbury\, MD\, 21801\, United States
CATEGORIES:Community Events
ATTACH;FMTTYPE=image/jpeg:https://stpeterschurch.net/wp-content/uploads/2024/09/460498963_908626684623707_3827241588165447362_n-e1727324083442.jpg
END:VEVENT
BEGIN:VEVENT
DTSTART;TZID=America/New_York:20240912T180000
DTEND;TZID=America/New_York:20240912T190000
DTSTAMP:20260421T151316
CREATED:20240926T033343Z
LAST-MODIFIED:20241005T180943Z
UID:9932-1726164000-1726167600@stpeterschurch.net
SUMMARY:Bell Choir Open House
DESCRIPTION:Grace Notes is a multi-generational handbell choir made up of ringers from both St. Peter’s & Wicomico Presbyterian. The Choir seeks enthusiastic new members age 14 and up with basic music reading skills. Experience with handbells is not necessary. Come give this fun activity a try! Attend the Open House to learn more (no obligation) tomorrow\, Sept. 12\, at 6 p.m.\, in the Langeler Bldg. across Rt 50 at Wicomico Presbyterian Church.\, 225 N. Division\, 2nd floor. Questions? Contact Director Megan Fenoglietto at 410-251-0376 or meganfeno@yahoo.com
URL:https://stpeterschurch.net/event/bell-choir-open-house/
LOCATION:Wicomico Presbyterian Church\, 225 N. Division St.\, Salisbury\, MD\, 21801\, United States
CATEGORIES:Music
ATTACH;FMTTYPE=image/png:https://stpeterschurch.net/wp-content/uploads/2024/09/handbellChoir-1.png
END:VEVENT
END:VCALENDAR