BEGIN:VCALENDAR
VERSION:2.0
PRODID:-//St. Peter&#039;s Episcopal Church - ECPv6.15.20//NONSGML v1.0//EN
CALSCALE:GREGORIAN
METHOD:PUBLISH
X-WR-CALNAME:St. Peter&#039;s Episcopal Church
X-ORIGINAL-URL:https://stpeterschurch.net
X-WR-CALDESC:Events for St. Peter&#039;s Episcopal Church
REFRESH-INTERVAL;VALUE=DURATION:PT1H
X-Robots-Tag:noindex
X-PUBLISHED-TTL:PT1H
BEGIN:VTIMEZONE
TZID:America/New_York
BEGIN:DAYLIGHT
TZOFFSETFROM:-0500
TZOFFSETTO:-0400
TZNAME:EDT
DTSTART:20230312T070000
END:DAYLIGHT
BEGIN:STANDARD
TZOFFSETFROM:-0400
TZOFFSETTO:-0500
TZNAME:EST
DTSTART:20231105T060000
END:STANDARD
BEGIN:DAYLIGHT
TZOFFSETFROM:-0500
TZOFFSETTO:-0400
TZNAME:EDT
DTSTART:20240310T070000
END:DAYLIGHT
BEGIN:STANDARD
TZOFFSETFROM:-0400
TZOFFSETTO:-0500
TZNAME:EST
DTSTART:20241103T060000
END:STANDARD
BEGIN:DAYLIGHT
TZOFFSETFROM:-0500
TZOFFSETTO:-0400
TZNAME:EDT
DTSTART:20250309T070000
END:DAYLIGHT
BEGIN:STANDARD
TZOFFSETFROM:-0400
TZOFFSETTO:-0500
TZNAME:EST
DTSTART:20251102T060000
END:STANDARD
END:VTIMEZONE
BEGIN:VEVENT
DTSTART;TZID=America/New_York:20240921T183000
DTEND;TZID=America/New_York:20240921T193000
DTSTAMP:20260421T201221
CREATED:20240926T041347Z
LAST-MODIFIED:20241005T180911Z
UID:9950-1726943400-1726947000@stpeterschurch.net
SUMMARY:Harp and Organ Concert
DESCRIPTION:St. Peter’s is on the Maryland Folk Festival program — with an Organ and Harp Concert at 6:30 p.m.\, Saturday\, September 21 at St. Peter’s Church\, featuring our Music Director and Organist James Wallace and Harpist Joy Slaven. The concert is free and open to all. If you are at the Folk Festival\, why not stop in and support your church and your Music Director and enjoy a quality concert in the church.
URL:https://stpeterschurch.net/event/harp-and-organ-concert/
LOCATION:St. Peter’s Episcopal Church\, 115 St. Peter's St.\, Salisbury\, MD\, 21801\, United States
CATEGORIES:Community Events
ATTACH;FMTTYPE=image/jpeg:https://stpeterschurch.net/wp-content/uploads/2024/09/460498963_908626684623707_3827241588165447362_n-e1727324083442.jpg
END:VEVENT
BEGIN:VEVENT
DTSTART;TZID=America/New_York:20240912T180000
DTEND;TZID=America/New_York:20240912T190000
DTSTAMP:20260421T201221
CREATED:20240926T033343Z
LAST-MODIFIED:20241005T180943Z
UID:9932-1726164000-1726167600@stpeterschurch.net
SUMMARY:Bell Choir Open House
DESCRIPTION:Grace Notes is a multi-generational handbell choir made up of ringers from both St. Peter’s & Wicomico Presbyterian. The Choir seeks enthusiastic new members age 14 and up with basic music reading skills. Experience with handbells is not necessary. Come give this fun activity a try! Attend the Open House to learn more (no obligation) tomorrow\, Sept. 12\, at 6 p.m.\, in the Langeler Bldg. across Rt 50 at Wicomico Presbyterian Church.\, 225 N. Division\, 2nd floor. Questions? Contact Director Megan Fenoglietto at 410-251-0376 or meganfeno@yahoo.com
URL:https://stpeterschurch.net/event/bell-choir-open-house/
LOCATION:Wicomico Presbyterian Church\, 225 N. Division St.\, Salisbury\, MD\, 21801\, United States
CATEGORIES:Music
ATTACH;FMTTYPE=image/png:https://stpeterschurch.net/wp-content/uploads/2024/09/handbellChoir-1.png
END:VEVENT
END:VCALENDAR